{"text_format":"3","workbook":"xlsx","n_sheets":7,"sheets":["記入上の注意","総括申込表","男子個人種目","女子個人種目","リレー","所属コード","種目コード"],"not_rendered":{"defined_names":3,"comments":3},"read":"whole","date_system":"1900"}

{"sheet":"記入上の注意","index":0,"n_rows":99,"n_cols":11,"rows_kept":99}
["【申込みファイルの入力についての注意事項】"]
["①　例にならって入力してください。種目についてはリストから選んでください。"]
["②　番組編成に必要ですので、必ず申込記録を記入してください。"]
["③　県内団体コードはこのページの下部のものをお使いください。県外団体は各県のものをお使い下さい。"]
["④　棒高跳び用ポールの貸出しを行っています。必要な方は申込みください。県内選手は一人一日１００円、県外選手は一人一日３００円必要です。"]
["⑤　ポールの使用申込は、所定の欄に人数のみをご記入ください。"]
["⑥　入力がすみましたら、男女それぞれのページとリレー・総括表を印刷してください。"]
["⑦　総括表は、申込責任者の印を捺印したものを当日受付に参加料と併せてご提出下さい。"]
["⑧　申込ファイル名の後に校名や団体名を明記し　trk.m@takamatsu-tf.jpまで送信して下さい。"]
["【記入例】"]
["半角数字","全角漢字で\n姓と名の間は\n全角スペース","リストから","半角数字で（）に\n入力","半角カタカナで\n姓と名の間は\n半角スペース","リストから選ぶ\n種別に注意","トラック種目は7桁\nフィールド種目は5桁","リストから選ぶ\n種別に注意","トラック種目は7桁\nフィールド種目は5桁","リストから選ぶ\n種別に注意","トラック種目は7桁\nフィールド種目は5桁"]
["ﾅﾝﾊﾞｰｶｰﾄﾞ","氏名","所属","学年","ﾌﾘｶﾞﾅ","種目１","記録１","種目２","記録２","種目３","記録３"]
[1234,"高松　太朗","庵治中","2","ﾀｶﾏﾂ ﾀﾛｳ","１００ｍ","0001234","１５００ｍ","0023456","走幅跳","00634"]
[{"$nulls":6},"0時間00分12秒34",null,"0時間02分34秒56",null,"００６ｍ３４"]
[]
["入力について不明な点は、高松市陸協　事務局　増田人志（090-9773-2513） 　三谷昌輝（090-3780-1542）までお尋ね下さい。　"]
[]
["香川県"]
["高校所属コード",null,null,"中学所属コード",{"$nulls":3},"一般所属コード"]
[363091,"高松工業高専",null,365001,"土庄町立土庄中学校",null,null,360001,"三菱ケミカル"]
[363092,"詫間電波工業高専",null,365002,"土庄町立豊島中学校",null,null,360002,"善通寺陸上自衛隊"]
[363101,"小豆島",null,365003,"小豆島町立内海中学校",null,null,360003,"香川マスターズ陸上競技連盟"]
[363102,"土庄",null,365004,"小豆島町立池田中学校",null,null,360007,"香川教員クラブ"]
[363103,"三本松",null,365005,"東かがわ市立引田中学校",null,null,360008,"香川RC遊"]
[363104,"津田",null,365006,"東かがわ市立白鳥中学校",null,null,360009,"高専詫間"]
[363105,"石田",null,365007,"東かがわ市立大川中学校",null,null,360010,"今治造船(株)"]
[363106,"志度",null,365008,"さぬき市立南中学校",null,null,360011,"KMU"]
[363107,"高松東",null,365009,"さぬき市立大川第一中学校",null,null,360014,"RATTLE"]
[363108,"高松",null,365010,"さぬき市立志度中学校",null,null,360019,"小豆郡陸上競技協会"]
[363109,"高松工",null,365011,"さぬき市立志度東中学校",null,null,360020,"さぬき市・東かがわ市陸上競技協会"]
[363110,"高松商",null,365012,"さぬき市立天王中学校",null,null,360021,"高松市陸上競技協会"]
[363111,"高松南",null,365013,"さぬき市立長尾中学校",null,null,360023,"坂出市陸上競技協会"]
[363112,"農業経営",null,365014,"三木町立三木中学校",null,null,360024,"丸亀市陸上競技協会"]
[363113,"飯山",null,365015,"直島町立直島中学校",null,null,360025,"仲多度善通寺陸上競技協会"]
[363114,"坂出",null,365016,"香大附属高松中学校",null,null,360026,"三豊市観音寺市陸上競技協会"]
[363115,"坂出商業",null,365017,"香川県立高松北中学校",null,null,360042,"MAC"]
[363116,"坂出工",null,365018,"高松市立桜町中学校",null,null,360049,"丸亀市役所陸上競技部"]
[363117,"丸亀",null,365019,"高松市立紫雲中学校",null,null,360050,"丸善工業"]
[363118,"丸亀城西",null,365020,"高松市立玉藻中学校",null,null,360051,"石丸製麺株式会社"]
[363119,"多度津",null,365021,"高松市立高松第一中学校",null,null,360052,"海満隊"]
[363121,"善通寺一",null,365022,"高松市立鶴尾中学校",null,null,360054,"綾川ＡＣ"]
[363123,"琴平",null,365023,"高松市立屋島中学校",null,null,360056,"香川アスリート倶楽部"]
[363124,"高瀬",null,365024,"高松市立協和中学校",null,null,360058,"丸亀スタジアムJC"]
[363125,"笠田",null,365025,"高松市立龍雲中学校",null,null,360059,"投擲戦隊ナゲレンジャー"]
[363126,"観音寺一",null,365026,"高松市立勝賀中学校",null,null,360060,"アリンコ魂"]
[363127,"観音寺中央",null,365027,"高松市立一宮中学校",null,null,360061,"ASPERITY"]
[363128,"三豊工",null,365028,"高松市立香東中学校",null,null,360062,"讃岐やいの會"]
[363129,"高松一",null,365029,"高松市立下笠居中学校",null,null,360063,"チームミズノアスレティック"]
[363130,"高松西",null,365030,"高松市立男木中学校",null,null,360064,"SMT2"]
[363131,"高松北",null,365031,"高松市立山田中学校"]
[363133,"香川中央",null,365032,"高松市立太田中学校"]
[363134,"高松桜井",null,365033,"高松市立古高松中学校"]
[363135,"三木",null,365034,"高松市立木太中学校"]
[363452,"香川聾",null,365035,"高松市立塩江中学校"]
[363457,"香川中部養護",null,365036,"高松市立庵治中学校"]
[363458,"香川丸亀養護",null,365037,"高松市立牟礼中学校"]
[363501,"藤井学園寒川",null,365038,"高松市立香川第一中学校"]
[363502,"英明",null,365039,"高松市立国分寺中学校"]
[363503,"高松中央",null,365040,"香川誠陵中学校"]
[363504,"大手前高松",null,365041,"大手前高松中学校"]
[363505,"坂出第一",null,365042,"高松市立香南中学校"]
[363506,"香川県大手前",null,365043,"香川県立聾学校中学部"]
[363507,"藤井",null,365044,"綾川町立綾上中学校"]
[363508,"尽誠学園",null,365045,"綾川町立綾南中学校"]
[363509,"香川西",null,365046,"宇多津町立宇多津中学校"]
[363510,"香川誠陵",null,365047,"香大附属坂出中学校"]
[363511,"丸亀大手前",null,365048,"坂出市立坂出中学校"]
[{"$nulls":3},365049,"坂出市立東部中学校"]
[{"$nulls":3},365050,"坂出市立白峰中学校"]
[{"$nulls":3},365051,"坂出市立瀬居中学校"]
[{"$nulls":3},365052,"坂出市立岩黒中学校"]
[{"$nulls":3},365053,"坂出市立櫃石中学校"]
[{"$nulls":3},365054,"丸亀市立東中学校"]
[{"$nulls":3},365055,"丸亀市立西中学校"]
[{"$nulls":3},365056,"丸亀市立南中学校"]
[{"$nulls":3},365057,"丸亀市立本島中学校"]
[{"$nulls":3},365058,"丸亀市立広島中学校"]
[{"$nulls":3},365059,"丸亀市立綾歌中学校"]
[{"$nulls":3},365060,"丸亀市立飯山中学校"]
[{"$nulls":3},365061,"大手前丸亀"]
[{"$nulls":3},365062,"藤井中学校"]
[{"$nulls":3},365063,"善通寺市立西中学校"]
[{"$nulls":3},365064,"善通寺市立東中学校"]
[{"$nulls":3},365065,"まんのう町立満濃中学校"]
[{"$nulls":3},365066,"まんのう町立琴南中学校"]
[{"$nulls":3},365067,"琴平町立琴平中学校"]
[{"$nulls":3},365068,"多度津町立多度津中学校"]
[{"$nulls":3},365069,"観音寺市立観音寺中学校"]
[{"$nulls":3},365070,"観音寺市立中部中学校"]
[{"$nulls":3},365071,"観音寺市立伊吹中学校"]
[{"$nulls":3},365072,"観音寺市立大野原中学校"]
[{"$nulls":3},365073,"観音寺市立豊浜中学校"]
[{"$nulls":3},365074,"三豊市観音寺市学校組合立三豊中学校"]
[{"$nulls":3},365075,"三豊市立高瀬中学校"]
[{"$nulls":3},365076,"三豊市立三野津中学校"]
[{"$nulls":3},365077,"三豊市立豊中中学校"]
[{"$nulls":3},365078,"三豊市立詫間中学校"]
[{"$nulls":3},365079,"三豊市立仁尾中学校"]
[{"$nulls":3},365080,"三豊市立和光中学校"]

{"sheet":"総括申込表","index":1,"n_rows":42,"n_cols":13,"rows_kept":42,"merged":[[3,2,3,3],[4,2,4,3],[4,8,4,9],[5,2,5,3],[5,8,5,9],[6,2,6,3],[36,3,36,8],[38,3,38,7],[41,1,41,2],[41,3,41,7]]}
["　　平成29年度",{"$nulls":7},"実施日"]
[null,null,"高松市長杯高松室内陸上競技大会　申込総括表",{"$nulls":9},"　"]
[]
[null,"ﾌﾘｶﾞﾅ",null,null,"←半角カタカナ8桁まで"]
[null,"所属略称",null,null,"←全角6桁まで",{"$nulls":3},"合計金額"]
[null,"所属コード",{"$f":"IF(C5=\"\",\"\",VLOOKUP(C5,所属コード!A1:D161,4))","v":""},null,"←半角数字6桁",{"$nulls":3},{"$f":"E12+J12+E17+J17+E22+J22+E27+J27+E31","v":0}]
[null,"県名",null,null,"←漢字"]
[]
[null,"香川県小学","個人種目数","リレー","参加料",null,"県外小学","個人種目数","リレー","参加料"]
[null,"男子",null,null,{"$f":"C10*200","v":0},null,"男子",null,null,{"$f":"H10*400","v":0}]
[null,"女子",null,null,{"$f":"C11*200","v":0},null,"女子",null,null,{"$f":"H11*400","v":0}]
[null,"計",{"$f":"SUM(C10:C11)","v":0},{"$f":"SUM(D10:D11)","v":0},{"$f":"SUM(E10:E11)","v":0},null,"計",{"$f":"SUM(H10:H11)","v":0},{"$f":"SUM(I10:I11)","v":0},{"$f":"SUM(J10:J11)","v":0}]
[]
[null,"香川県中学","個人種目数","リレー","参加料",null,"県外中学","個人種目数","リレー","参加料"]
[null,"男子",null,null,{"$f":"C15*400","v":0},null,"男子",null,null,{"$f":"H15*800","v":0}]
[null,"女子",null,null,{"$f":"C16*400","v":0},null,"女子",null,null,{"$f":"H16*800","v":0}]
[null,"計",{"$f":"SUM(C15:C16)","v":0},{"$f":"SUM(D15:D16)","v":0},{"$f":"SUM(E15:E16)","v":0},null,"計",{"$f":"SUM(H15:H16)","v":0},{"$f":"SUM(I15:I16)","v":0},{"$f":"SUM(J15:J16)","v":0}]
[]
[null,"香川県高校","個人種目数","リレー","参加料",null,"県外高校","個人種目数","リレー","参加料"]
[null,"男子",null,null,{"$f":"C20*500","v":0},null,"男子",null,null,{"$f":"H20*1000","v":0}]
[null,"女子",null,null,{"$f":"C21*500","v":0},null,"女子",null,null,{"$f":"H21*1000","v":0}]
[null,"計",{"$f":"SUM(C20:C21)","v":0},{"$f":"SUM(D20:D21)","v":0},{"$f":"SUM(E20:E21)","v":0},null,"計",{"$f":"SUM(H20:H21)","v":0},{"$f":"SUM(I20:I21)","v":0},{"$f":"SUM(J20:J21)","v":0}]
[]
[null,"香川県一般","個人種目数","リレー","参加料",null,"県外一般","個人種目数","リレー","参加料"]
[null,"男子",null,null,{"$f":"C25*600","v":0},null,"男子",null,null,{"$f":"H25*1200","v":0}]
[null,"女子",null,null,{"$f":"C26*600","v":0},null,"女子",null,null,{"$f":"H26*1200","v":0}]
[null,"計",{"$f":"SUM(C25:C26)","v":0},{"$f":"SUM(D25:D26)","v":0},{"$f":"SUM(E25:E26)","v":0},null,"計",{"$f":"SUM(H25:H26)","v":0},{"$f":"SUM(I25:I26)","v":0},{"$f":"SUM(J25:J26)","v":0}]
[]
[null,"★棒高跳び用ポールの使用申込（県内選手一人100 円、県外選手一人300円、各自持ち込む場合は不要）"]
[null,null,"県内選手","県外選手","金額"]
[null,"人数",null,null,{"$f":"(C31*100)+(D31*300)","v":0}]
[]
[null,"高松市陸上競技協会長　殿",{"$nulls":4},"平成２９年","月","日"]
[]
[null,"添付した別紙の内容で、標記大会に参加申し込みをいたします。"]
[]
[null,null,"所属名"]
[null,"※個人で申込む場合の所属名は、登録団体名を所属名の欄にご記入ください。"]
[null,null,"申込責任者",{"$nulls":5},"印"]
[null,"※学校単位で申込む場合の申込責任者は学校長名を、個人やクラブ単位での申込は、個人名をご記入ください。"]
[]
[null,"責任者連絡用電話"]

{"sheet":"男子個人種目","index":2,"n_rows":52,"n_cols":18,"rows_kept":52,"merged":[[0,13,0,17]]}
[null,"半角数字","全角漢字で\n姓と名の間は\n全角スペース","リストから選ぶ","半角数字で（）に\n入力","半角カタカナで\n姓と名の間は\n半角スペース","リストから選ぶ\n種別に注意","トラック種目は7桁\nフィールド種目は5桁","リストから選ぶ\n種別に注意","トラック種目は7桁\nフィールド種目は5桁","リストから選ぶ\n種別に注意","リストから選ぶ\n種別に注意","トラック種目は7桁\nフィールド種目は5桁","入力不要"]
[null,"ﾅﾝﾊﾞｰｶｰﾄﾞ","氏名","所属","学年","ﾌﾘｶﾞﾅ","種目１","記録１","種目２","記録２","種目３","種目３","記録３","性別コード","所属コード","種目１コード","種目２コード","種目３コード"]
[1,{"$nulls":12},{"$f":"IF(C3=\"\",\"\",1)","v":""},{"$f":"IF(D3=\"\",\"\",VLOOKUP(D3,所属コード!$C$1:$D$160,2,FALSE))","v":""},{"$f":"IF(G3=\"\",\"\",(VLOOKUP(G3,種目コード!$A$1:$B$35,2,FALSE)))","v":""},{"$f":"IF(I3=\"\",\"\",(VLOOKUP(I3,種目コード!$A$1:$B$35,2,FALSE)))","v":""},{"$f":"IF(L3=\"\",\"\",(VLOOKUP(L3,種目コード!$A$1:$B$35,2,FALSE)))","v":""}]
[2,{"$nulls":12},"",{"$f":"IF(D4=\"\",\"\",VLOOKUP(D4,所属コード!$C$1:$D$160,2,FALSE))","v":""},{"$f":"IFERROR(VLOOKUP(G4,種目コード!$A$1:$B$35,2,FALSE),\"\")","v":""},{"$f":"IF(I4=\"\",\"\",(VLOOKUP(I4,種目コード!$A$1:$B$35,2,FALSE)))","v":""},{"$f":"IF(L4=\"\",\"\",(VLOOKUP(L4,種目コード!$A$1:$B$35,2,FALSE)))","v":""}]
[3,{"$nulls":12},"",{"$f":"IF(D5=\"\",\"\",VLOOKUP(D5,所属コード!$C$1:$D$160,2,FALSE))","v":""},{"$f":"IFERROR(VLOOKUP(G5,種目コード!$A$1:$B$35,2,FALSE),\"\")","v":""},{"$f":"IF(I5=\"\",\"\",(VLOOKUP(I5,種目コード!$A$1:$B$35,2,FALSE)))","v":""},{"$f":"IF(L5=\"\",\"\",(VLOOKUP(L5,種目コード!$A$1:$B$35,2,FALSE)))","v":""}]
[4,{"$nulls":12},"",{"$f":"IF(D6=\"\",\"\",VLOOKUP(D6,所属コード!$C$1:$D$160,2,FALSE))","v":""},{"$f":"IFERROR(VLOOKUP(G6,種目コード!$A$1:$B$35,2,FALSE),\"\")","v":""},{"$f":"IF(I6=\"\",\"\",(VLOOKUP(I6,種目コード!$A$1:$B$35,2,FALSE)))","v":""},{"$f":"IF(L6=\"\",\"\",(VLOOKUP(L6,種目コード!$A$1:$B$35,2,FALSE)))","v":""}]
[5,{"$nulls":12},"",{"$f":"IF(D7=\"\",\"\",VLOOKUP(D7,所属コード!$C$1:$D$160,2,FALSE))","v":""},{"$f":"IFERROR(VLOOKUP(G7,種目コード!$A$1:$B$35,2,FALSE),\"\")","v":""},{"$f":"IF(I7=\"\",\"\",(VLOOKUP(I7,種目コード!$A$1:$B$35,2,FALSE)))","v":""},{"$f":"IF(L7=\"\",\"\",(VLOOKUP(L7,種目コード!$A$1:$B$35,2,FALSE)))","v":""}]
[6,{"$nulls":12},"",{"$f":"IF(D8=\"\",\"\",VLOOKUP(D8,所属コード!$C$1:$D$160,2,FALSE))","v":""},{"$f":"IFERROR(VLOOKUP(G8,種目コード!$A$1:$B$35,2,FALSE),\"\")","v":""},{"$f":"IF(I8=\"\",\"\",(VLOOKUP(I8,種目コード!$A$1:$B$35,2,FALSE)))","v":""},{"$f":"IF(L8=\"\",\"\",(VLOOKUP(L8,種目コード!$A$1:$B$35,2,FALSE)))","v":""}]
[7,{"$nulls":12},"",{"$f":"IF(D9=\"\",\"\",VLOOKUP(D9,所属コード!$C$1:$D$160,2,FALSE))","v":""},{"$f":"IFERROR(VLOOKUP(G9,種目コード!$A$1:$B$35,2,FALSE),\"\")","v":""},{"$f":"IF(I9=\"\",\"\",(VLOOKUP(I9,種目コード!$A$1:$B$35,2,FALSE)))","v":""},{"$f":"IF(L9=\"\",\"\",(VLOOKUP(L9,種目コード!$A$1:$B$35,2,FALSE)))","v":""}]
[8,{"$nulls":12},"",{"$f":"IF(D10=\"\",\"\",VLOOKUP(D10,所属コード!$C$1:$D$160,2,FALSE))","v":""},{"$f":"IFERROR(VLOOKUP(G10,種目コード!$A$1:$B$35,2,FALSE),\"\")","v":""},{"$f":"IF(I10=\"\",\"\",(VLOOKUP(I10,種目コード!$A$1:$B$35,2,FALSE)))","v":""},{"$f":"IF(L10=\"\",\"\",(VLOOKUP(L10,種目コード!$A$1:$B$35,2,FALSE)))","v":""}]
[9,{"$nulls":12},"",{"$f":"IF(D11=\"\",\"\",VLOOKUP(D11,所属コード!$C$1:$D$160,2,FALSE))","v":""},{"$f":"IFERROR(VLOOKUP(G11,種目コード!$A$1:$B$35,2,FALSE),\"\")","v":""},{"$f":"IF(I11=\"\",\"\",(VLOOKUP(I11,種目コード!$A$1:$B$35,2,FALSE)))","v":""},{"$f":"IF(L11=\"\",\"\",(VLOOKUP(L11,種目コード!$A$1:$B$35,2,FALSE)))","v":""}]
[10,{"$nulls":12},"",{"$f":"IF(D12=\"\",\"\",VLOOKUP(D12,所属コード!$C$1:$D$160,2,FALSE))","v":""},{"$f":"IFERROR(VLOOKUP(G12,種目コード!$A$1:$B$35,2,FALSE),\"\")","v":""},{"$f":"IF(I12=\"\",\"\",(VLOOKUP(I12,種目コード!$A$1:$B$35,2,FALSE)))","v":""},{"$f":"IF(L12=\"\",\"\",(VLOOKUP(L12,種目コード!$A$1:$B$35,2,FALSE)))","v":""}]
[11,{"$nulls":12},"",{"$f":"IF(D13=\"\",\"\",VLOOKUP(D13,所属コード!$C$1:$D$160,2,FALSE))","v":""},{"$f":"IFERROR(VLOOKUP(G13,種目コード!$A$1:$B$35,2,FALSE),\"\")","v":""},{"$f":"IF(I13=\"\",\"\",(VLOOKUP(I13,種目コード!$A$1:$B$35,2,FALSE)))","v":""},{"$f":"IF(L13=\"\",\"\",(VLOOKUP(L13,種目コード!$A$1:$B$35,2,FALSE)))","v":""}]
[12,{"$nulls":12},"",{"$f":"IF(D14=\"\",\"\",VLOOKUP(D14,所属コード!$C$1:$D$160,2,FALSE))","v":""},{"$f":"IFERROR(VLOOKUP(G14,種目コード!$A$1:$B$35,2,FALSE),\"\")","v":""},{"$f":"IF(I14=\"\",\"\",(VLOOKUP(I14,種目コード!$A$1:$B$35,2,FALSE)))","v":""},{"$f":"IF(L14=\"\",\"\",(VLOOKUP(L14,種目コード!$A$1:$B$35,2,FALSE)))","v":""}]
[13,{"$nulls":12},"",{"$f":"IF(D15=\"\",\"\",VLOOKUP(D15,所属コード!$C$1:$D$160,2,FALSE))","v":""},{"$f":"IFERROR(VLOOKUP(G15,種目コード!$A$1:$B$35,2,FALSE),\"\")","v":""},{"$f":"IF(I15=\"\",\"\",(VLOOKUP(I15,種目コード!$A$1:$B$35,2,FALSE)))","v":""},{"$f":"IF(L15=\"\",\"\",(VLOOKUP(L15,種目コード!$A$1:$B$35,2,FALSE)))","v":""}]
[14,{"$nulls":12},"",{"$f":"IF(D16=\"\",\"\",VLOOKUP(D16,所属コード!$C$1:$D$160,2,FALSE))","v":""},{"$f":"IFERROR(VLOOKUP(G16,種目コード!$A$1:$B$35,2,FALSE),\"\")","v":""},{"$f":"IF(I16=\"\",\"\",(VLOOKUP(I16,種目コード!$A$1:$B$35,2,FALSE)))","v":""},{"$f":"IF(L16=\"\",\"\",(VLOOKUP(L16,種目コード!$A$1:$B$35,2,FALSE)))","v":""}]
[15,{"$nulls":12},"",{"$f":"IF(D17=\"\",\"\",VLOOKUP(D17,所属コード!$C$1:$D$160,2,FALSE))","v":""},{"$f":"IFERROR(VLOOKUP(G17,種目コード!$A$1:$B$35,2,FALSE),\"\")","v":""},{"$f":"IF(I17=\"\",\"\",(VLOOKUP(I17,種目コード!$A$1:$B$35,2,FALSE)))","v":""},{"$f":"IF(L17=\"\",\"\",(VLOOKUP(L17,種目コード!$A$1:$B$35,2,FALSE)))","v":""}]
[16,{"$nulls":12},"",{"$f":"IF(D18=\"\",\"\",VLOOKUP(D18,所属コード!$C$1:$D$160,2,FALSE))","v":""},{"$f":"IFERROR(VLOOKUP(G18,種目コード!$A$1:$B$35,2,FALSE),\"\")","v":""},{"$f":"IF(I18=\"\",\"\",(VLOOKUP(I18,種目コード!$A$1:$B$35,2,FALSE)))","v":""},{"$f":"IF(L18=\"\",\"\",(VLOOKUP(L18,種目コード!$A$1:$B$35,2,FALSE)))","v":""}]
[17,{"$nulls":12},"",{"$f":"IF(D19=\"\",\"\",VLOOKUP(D19,所属コード!$C$1:$D$160,2,FALSE))","v":""},{"$f":"IFERROR(VLOOKUP(G19,種目コード!$A$1:$B$35,2,FALSE),\"\")","v":""},{"$f":"IF(I19=\"\",\"\",(VLOOKUP(I19,種目コード!$A$1:$B$35,2,FALSE)))","v":""},{"$f":"IF(L19=\"\",\"\",(VLOOKUP(L19,種目コード!$A$1:$B$35,2,FALSE)))","v":""}]
[18,{"$nulls":12},"",{"$f":"IF(D20=\"\",\"\",VLOOKUP(D20,所属コード!$C$1:$D$160,2,FALSE))","v":""},{"$f":"IFERROR(VLOOKUP(G20,種目コード!$A$1:$B$35,2,FALSE),\"\")","v":""},{"$f":"IF(I20=\"\",\"\",(VLOOKUP(I20,種目コード!$A$1:$B$35,2,FALSE)))","v":""},{"$f":"IF(L20=\"\",\"\",(VLOOKUP(L20,種目コード!$A$1:$B$35,2,FALSE)))","v":""}]
[19,{"$nulls":12},"",{"$f":"IF(D21=\"\",\"\",VLOOKUP(D21,所属コード!$C$1:$D$160,2,FALSE))","v":""},{"$f":"IFERROR(VLOOKUP(G21,種目コード!$A$1:$B$35,2,FALSE),\"\")","v":""},{"$f":"IF(I21=\"\",\"\",(VLOOKUP(I21,種目コード!$A$1:$B$35,2,FALSE)))","v":""},{"$f":"IF(L21=\"\",\"\",(VLOOKUP(L21,種目コード!$A$1:$B$35,2,FALSE)))","v":""}]
[20,{"$nulls":12},"",{"$f":"IF(D22=\"\",\"\",VLOOKUP(D22,所属コード!$C$1:$D$160,2,FALSE))","v":""},{"$f":"IFERROR(VLOOKUP(G22,種目コード!$A$1:$B$35,2,FALSE),\"\")","v":""},{"$f":"IF(I22=\"\",\"\",(VLOOKUP(I22,種目コード!$A$1:$B$35,2,FALSE)))","v":""},{"$f":"IF(L22=\"\",\"\",(VLOOKUP(L22,種目コード!$A$1:$B$35,2,FALSE)))","v":""}]
[21,{"$nulls":12},"",{"$f":"IF(D23=\"\",\"\",VLOOKUP(D23,所属コード!$C$1:$D$160,2,FALSE))","v":""},{"$f":"IFERROR(VLOOKUP(G23,種目コード!$A$1:$B$35,2,FALSE),\"\")","v":""},{"$f":"IF(I23=\"\",\"\",(VLOOKUP(I23,種目コード!$A$1:$B$35,2,FALSE)))","v":""},{"$f":"IF(L23=\"\",\"\",(VLOOKUP(L23,種目コード!$A$1:$B$35,2,FALSE)))","v":""}]
[22,{"$nulls":12},"",{"$f":"IF(D24=\"\",\"\",VLOOKUP(D24,所属コード!$C$1:$D$160,2,FALSE))","v":""},{"$f":"IFERROR(VLOOKUP(G24,種目コード!$A$1:$B$35,2,FALSE),\"\")","v":""},{"$f":"IF(I24=\"\",\"\",(VLOOKUP(I24,種目コード!$A$1:$B$35,2,FALSE)))","v":""},{"$f":"IF(L24=\"\",\"\",(VLOOKUP(L24,種目コード!$A$1:$B$35,2,FALSE)))","v":""}]
[23,{"$nulls":12},"",{"$f":"IF(D25=\"\",\"\",VLOOKUP(D25,所属コード!$C$1:$D$160,2,FALSE))","v":""},{"$f":"IFERROR(VLOOKUP(G25,種目コード!$A$1:$B$35,2,FALSE),\"\")","v":""},{"$f":"IF(I25=\"\",\"\",(VLOOKUP(I25,種目コード!$A$1:$B$35,2,FALSE)))","v":""},{"$f":"IF(L25=\"\",\"\",(VLOOKUP(L25,種目コード!$A$1:$B$35,2,FALSE)))","v":""}]
[24,{"$nulls":12},"",{"$f":"IF(D26=\"\",\"\",VLOOKUP(D26,所属コード!$C$1:$D$160,2,FALSE))","v":""},{"$f":"IFERROR(VLOOKUP(G26,種目コード!$A$1:$B$35,2,FALSE),\"\")","v":""},{"$f":"IF(I26=\"\",\"\",(VLOOKUP(I26,種目コード!$A$1:$B$35,2,FALSE)))","v":""},{"$f":"IF(L26=\"\",\"\",(VLOOKUP(L26,種目コード!$A$1:$B$35,2,FALSE)))","v":""}]
[25,{"$nulls":12},"",{"$f":"IF(D27=\"\",\"\",VLOOKUP(D27,所属コード!$C$1:$D$160,2,FALSE))","v":""},{"$f":"IFERROR(VLOOKUP(G27,種目コード!$A$1:$B$35,2,FALSE),\"\")","v":""},{"$f":"IF(I27=\"\",\"\",(VLOOKUP(I27,種目コード!$A$1:$B$35,2,FALSE)))","v":""},{"$f":"IF(L27=\"\",\"\",(VLOOKUP(L27,種目コード!$A$1:$B$35,2,FALSE)))","v":""}]
[26,{"$nulls":12},"",{"$f":"IF(D28=\"\",\"\",VLOOKUP(D28,所属コード!$C$1:$D$160,2,FALSE))","v":""},{"$f":"IFERROR(VLOOKUP(G28,種目コード!$A$1:$B$35,2,FALSE),\"\")","v":""},{"$f":"IF(I28=\"\",\"\",(VLOOKUP(I28,種目コード!$A$1:$B$35,2,FALSE)))","v":""},{"$f":"IF(L28=\"\",\"\",(VLOOKUP(L28,種目コード!$A$1:$B$35,2,FALSE)))","v":""}]
[27,{"$nulls":12},"",{"$f":"IF(D29=\"\",\"\",VLOOKUP(D29,所属コード!$C$1:$D$160,2,FALSE))","v":""},{"$f":"IFERROR(VLOOKUP(G29,種目コード!$A$1:$B$35,2,FALSE),\"\")","v":""},{"$f":"IF(I29=\"\",\"\",(VLOOKUP(I29,種目コード!$A$1:$B$35,2,FALSE)))","v":""},{"$f":"IF(L29=\"\",\"\",(VLOOKUP(L29,種目コード!$A$1:$B$35,2,FALSE)))","v":""}]
[28,{"$nulls":12},"",{"$f":"IF(D30=\"\",\"\",VLOOKUP(D30,所属コード!$C$1:$D$160,2,FALSE))","v":""},{"$f":"IFERROR(VLOOKUP(G30,種目コード!$A$1:$B$35,2,FALSE),\"\")","v":""},{"$f":"IF(I30=\"\",\"\",(VLOOKUP(I30,種目コード!$A$1:$B$35,2,FALSE)))","v":""},{"$f":"IF(L30=\"\",\"\",(VLOOKUP(L30,種目コード!$A$1:$B$35,2,FALSE)))","v":""}]
[29,{"$nulls":12},"",{"$f":"IF(D31=\"\",\"\",VLOOKUP(D31,所属コード!$C$1:$D$160,2,FALSE))","v":""},{"$f":"IFERROR(VLOOKUP(G31,種目コード!$A$1:$B$35,2,FALSE),\"\")","v":""},{"$f":"IF(I31=\"\",\"\",(VLOOKUP(I31,種目コード!$A$1:$B$35,2,FALSE)))","v":""},{"$f":"IF(L31=\"\",\"\",(VLOOKUP(L31,種目コード!$A$1:$B$35,2,FALSE)))","v":""}]
[30,{"$nulls":12},"",{"$f":"IF(D32=\"\",\"\",VLOOKUP(D32,所属コード!$C$1:$D$160,2,FALSE))","v":""},{"$f":"IFERROR(VLOOKUP(G32,種目コード!$A$1:$B$35,2,FALSE),\"\")","v":""},{"$f":"IF(I32=\"\",\"\",(VLOOKUP(I32,種目コード!$A$1:$B$35,2,FALSE)))","v":""},{"$f":"IF(L32=\"\",\"\",(VLOOKUP(L32,種目コード!$A$1:$B$35,2,FALSE)))","v":""}]
[31,{"$nulls":12},"",{"$f":"IF(D33=\"\",\"\",VLOOKUP(D33,所属コード!$C$1:$D$160,2,FALSE))","v":""},{"$f":"IFERROR(VLOOKUP(G33,種目コード!$A$1:$B$35,2,FALSE),\"\")","v":""},{"$f":"IF(I33=\"\",\"\",(VLOOKUP(I33,種目コード!$A$1:$B$35,2,FALSE)))","v":""},{"$f":"IF(L33=\"\",\"\",(VLOOKUP(L33,種目コード!$A$1:$B$35,2,FALSE)))","v":""}]
[32,{"$nulls":12},"",{"$f":"IF(D34=\"\",\"\",VLOOKUP(D34,所属コード!$C$1:$D$160,2,FALSE))","v":""},{"$f":"IFERROR(VLOOKUP(G34,種目コード!$A$1:$B$35,2,FALSE),\"\")","v":""},{"$f":"IF(I34=\"\",\"\",(VLOOKUP(I34,種目コード!$A$1:$B$35,2,FALSE)))","v":""},{"$f":"IF(L34=\"\",\"\",(VLOOKUP(L34,種目コード!$A$1:$B$35,2,FALSE)))","v":""}]
[33,{"$nulls":12},{"$f":"IF(C35=\"\",\"\",1)","v":""},{"$f":"IF(D35=\"\",\"\",VLOOKUP(D35,所属コード!$C$1:$D$160,2,FALSE))","v":""},{"$f":"IFERROR(VLOOKUP(G35,種目コード!$A$1:$B$35,2,FALSE),\"\")","v":""},{"$f":"IF(I35=\"\",\"\",(VLOOKUP(I35,種目コード!$A$1:$B$35,2,FALSE)))","v":""},{"$f":"IF(L35=\"\",\"\",(VLOOKUP(L35,種目コード!$A$1:$B$35,2,FALSE)))","v":""}]
[34,{"$nulls":12},"",{"$f":"IF(D36=\"\",\"\",VLOOKUP(D36,所属コード!$C$1:$D$160,2,FALSE))","v":""},{"$f":"IFERROR(VLOOKUP(G36,種目コード!$A$1:$B$35,2,FALSE),\"\")","v":""},{"$f":"IF(I36=\"\",\"\",(VLOOKUP(I36,種目コード!$A$1:$B$35,2,FALSE)))","v":""},{"$f":"IF(L36=\"\",\"\",(VLOOKUP(L36,種目コード!$A$1:$B$35,2,FALSE)))","v":""}]
[35,{"$nulls":12},"",{"$f":"IF(D37=\"\",\"\",VLOOKUP(D37,所属コード!$C$1:$D$160,2,FALSE))","v":""},{"$f":"IFERROR(VLOOKUP(G37,種目コード!$A$1:$B$35,2,FALSE),\"\")","v":""},{"$f":"IF(I37=\"\",\"\",(VLOOKUP(I37,種目コード!$A$1:$B$35,2,FALSE)))","v":""},{"$f":"IF(L37=\"\",\"\",(VLOOKUP(L37,種目コード!$A$1:$B$35,2,FALSE)))","v":""}]
[36,{"$nulls":12},"",{"$f":"IF(D38=\"\",\"\",VLOOKUP(D38,所属コード!$C$1:$D$160,2,FALSE))","v":""},{"$f":"IFERROR(VLOOKUP(G38,種目コード!$A$1:$B$35,2,FALSE),\"\")","v":""},{"$f":"IF(I38=\"\",\"\",(VLOOKUP(I38,種目コード!$A$1:$B$35,2,FALSE)))","v":""},{"$f":"IF(L38=\"\",\"\",(VLOOKUP(L38,種目コード!$A$1:$B$35,2,FALSE)))","v":""}]
[37,{"$nulls":12},"",{"$f":"IF(D39=\"\",\"\",VLOOKUP(D39,所属コード!$C$1:$D$160,2,FALSE))","v":""},{"$f":"IFERROR(VLOOKUP(G39,種目コード!$A$1:$B$35,2,FALSE),\"\")","v":""},{"$f":"IF(I39=\"\",\"\",(VLOOKUP(I39,種目コード!$A$1:$B$35,2,FALSE)))","v":""},{"$f":"IF(L39=\"\",\"\",(VLOOKUP(L39,種目コード!$A$1:$B$35,2,FALSE)))","v":""}]
[38,{"$nulls":12},"",{"$f":"IF(D40=\"\",\"\",VLOOKUP(D40,所属コード!$C$1:$D$160,2,FALSE))","v":""},{"$f":"IFERROR(VLOOKUP(G40,種目コード!$A$1:$B$35,2,FALSE),\"\")","v":""},{"$f":"IF(I40=\"\",\"\",(VLOOKUP(I40,種目コード!$A$1:$B$35,2,FALSE)))","v":""},{"$f":"IF(L40=\"\",\"\",(VLOOKUP(L40,種目コード!$A$1:$B$35,2,FALSE)))","v":""}]
[39,{"$nulls":12},"",{"$f":"IF(D41=\"\",\"\",VLOOKUP(D41,所属コード!$C$1:$D$160,2,FALSE))","v":""},{"$f":"IFERROR(VLOOKUP(G41,種目コード!$A$1:$B$35,2,FALSE),\"\")","v":""},{"$f":"IF(I41=\"\",\"\",(VLOOKUP(I41,種目コード!$A$1:$B$35,2,FALSE)))","v":""},{"$f":"IF(L41=\"\",\"\",(VLOOKUP(L41,種目コード!$A$1:$B$35,2,FALSE)))","v":""}]
[40,{"$nulls":12},"",{"$f":"IF(D42=\"\",\"\",VLOOKUP(D42,所属コード!$C$1:$D$160,2,FALSE))","v":""},{"$f":"IFERROR(VLOOKUP(G42,種目コード!$A$1:$B$35,2,FALSE),\"\")","v":""},{"$f":"IF(I42=\"\",\"\",(VLOOKUP(I42,種目コード!$A$1:$B$35,2,FALSE)))","v":""},{"$f":"IF(L42=\"\",\"\",(VLOOKUP(L42,種目コード!$A$1:$B$35,2,FALSE)))","v":""}]
[41,{"$nulls":12},"",{"$f":"IF(D43=\"\",\"\",VLOOKUP(D43,所属コード!$C$1:$D$160,2,FALSE))","v":""},{"$f":"IFERROR(VLOOKUP(G43,種目コード!$A$1:$B$35,2,FALSE),\"\")","v":""},{"$f":"IF(I43=\"\",\"\",(VLOOKUP(I43,種目コード!$A$1:$B$35,2,FALSE)))","v":""},{"$f":"IF(L43=\"\",\"\",(VLOOKUP(L43,種目コード!$A$1:$B$35,2,FALSE)))","v":""}]
[42,{"$nulls":12},"",{"$f":"IF(D44=\"\",\"\",VLOOKUP(D44,所属コード!$C$1:$D$160,2,FALSE))","v":""},{"$f":"IFERROR(VLOOKUP(G44,種目コード!$A$1:$B$35,2,FALSE),\"\")","v":""},{"$f":"IF(I44=\"\",\"\",(VLOOKUP(I44,種目コード!$A$1:$B$35,2,FALSE)))","v":""},{"$f":"IF(L44=\"\",\"\",(VLOOKUP(L44,種目コード!$A$1:$B$35,2,FALSE)))","v":""}]
[43,{"$nulls":12},"",{"$f":"IF(D45=\"\",\"\",VLOOKUP(D45,所属コード!$C$1:$D$160,2,FALSE))","v":""},{"$f":"IFERROR(VLOOKUP(G45,種目コード!$A$1:$B$35,2,FALSE),\"\")","v":""},{"$f":"IF(I45=\"\",\"\",(VLOOKUP(I45,種目コード!$A$1:$B$35,2,FALSE)))","v":""},{"$f":"IF(L45=\"\",\"\",(VLOOKUP(L45,種目コード!$A$1:$B$35,2,FALSE)))","v":""}]
[44,{"$nulls":12},"",{"$f":"IF(D46=\"\",\"\",VLOOKUP(D46,所属コード!$C$1:$D$160,2,FALSE))","v":""},{"$f":"IFERROR(VLOOKUP(G46,種目コード!$A$1:$B$35,2,FALSE),\"\")","v":""},{"$f":"IF(I46=\"\",\"\",(VLOOKUP(I46,種目コード!$A$1:$B$35,2,FALSE)))","v":""},{"$f":"IF(L46=\"\",\"\",(VLOOKUP(L46,種目コード!$A$1:$B$35,2,FALSE)))","v":""}]
[45,{"$nulls":12},"",{"$f":"IF(D47=\"\",\"\",VLOOKUP(D47,所属コード!$C$1:$D$160,2,FALSE))","v":""},{"$f":"IFERROR(VLOOKUP(G47,種目コード!$A$1:$B$35,2,FALSE),\"\")","v":""},{"$f":"IF(I47=\"\",\"\",(VLOOKUP(I47,種目コード!$A$1:$B$35,2,FALSE)))","v":""},{"$f":"IF(L47=\"\",\"\",(VLOOKUP(L47,種目コード!$A$1:$B$35,2,FALSE)))","v":""}]
[46,{"$nulls":12},"",{"$f":"IF(D48=\"\",\"\",VLOOKUP(D48,所属コード!$C$1:$D$160,2,FALSE))","v":""},{"$f":"IFERROR(VLOOKUP(G48,種目コード!$A$1:$B$35,2,FALSE),\"\")","v":""},{"$f":"IF(I48=\"\",\"\",(VLOOKUP(I48,種目コード!$A$1:$B$35,2,FALSE)))","v":""},{"$f":"IF(L48=\"\",\"\",(VLOOKUP(L48,種目コード!$A$1:$B$35,2,FALSE)))","v":""}]
[47,{"$nulls":12},"",{"$f":"IF(D49=\"\",\"\",VLOOKUP(D49,所属コード!$C$1:$D$160,2,FALSE))","v":""},{"$f":"IFERROR(VLOOKUP(G49,種目コード!$A$1:$B$35,2,FALSE),\"\")","v":""},{"$f":"IF(I49=\"\",\"\",(VLOOKUP(I49,種目コード!$A$1:$B$35,2,FALSE)))","v":""},{"$f":"IF(L49=\"\",\"\",(VLOOKUP(L49,種目コード!$A$1:$B$35,2,FALSE)))","v":""}]
[48,{"$nulls":12},"",{"$f":"IF(D50=\"\",\"\",VLOOKUP(D50,所属コード!$C$1:$D$160,2,FALSE))","v":""},{"$f":"IFERROR(VLOOKUP(G50,種目コード!$A$1:$B$35,2,FALSE),\"\")","v":""},{"$f":"IF(I50=\"\",\"\",(VLOOKUP(I50,種目コード!$A$1:$B$35,2,FALSE)))","v":""},{"$f":"IF(L50=\"\",\"\",(VLOOKUP(L50,種目コード!$A$1:$B$35,2,FALSE)))","v":""}]
[49,{"$nulls":12},"",{"$f":"IF(D51=\"\",\"\",VLOOKUP(D51,所属コード!$C$1:$D$160,2,FALSE))","v":""},{"$f":"IFERROR(VLOOKUP(G51,種目コード!$A$1:$B$35,2,FALSE),\"\")","v":""},{"$f":"IF(I51=\"\",\"\",(VLOOKUP(I51,種目コード!$A$1:$B$35,2,FALSE)))","v":""},{"$f":"IF(L51=\"\",\"\",(VLOOKUP(L51,種目コード!$A$1:$B$35,2,FALSE)))","v":""}]
[50,{"$nulls":12},"",{"$f":"IF(D52=\"\",\"\",VLOOKUP(D52,所属コード!$C$1:$D$160,2))","v":""},{"$f":"IFERROR(VLOOKUP(G52,種目コード!$A$1:$B$35,2,FALSE),\"\")","v":""},{"$f":"IF(I52=\"\",\"\",(VLOOKUP(I52,種目コード!$A$1:$B$35,2,FALSE)))","v":""},{"$f":"IF(L52=\"\",\"\",(VLOOKUP(L52,種目コード!$A$1:$B$35,2,FALSE)))","v":""}]

{"sheet":"女子個人種目","index":3,"n_rows":52,"n_cols":18,"rows_kept":52,"merged":[[0,13,0,17]]}
[null,"半角数字","全角漢字で\n姓と名の間は\n全角スペース","リストから選ぶ","半角数字で（）に\n入力","半角カタカナで\n姓と名の間は\n半角スペース","リストから選ぶ\n種別に注意","トラック種目は7桁\nフィールド種目は5桁","リストから選ぶ\n種別に注意","トラック種目は7桁\nフィールド種目は5桁","リストから選ぶ\n種別に注意","リストから選ぶ\n種別に注意","トラック種目は7桁\nフィールド種目は5桁","入力不要"]
[null,"ﾅﾝﾊﾞｰｶｰﾄﾞ","氏名","所属","学年","ﾌﾘｶﾞﾅ","種目１","記録１","種目２","記録２","種目３","種目３","記録３","性別コード","所属コード","種目１コード","種目２コード","種目３コード"]
[1,{"$nulls":12},{"$f":"IF(C3=\"\",\"\",2)","v":""},{"$f":"IF(D3=\"\",\"\",VLOOKUP(D3,所属コード!$C$1:$D$160,2,FALSE))","v":""},{"$f":"IF(G3=\"\",\"\",(VLOOKUP(G3,種目コード!$A$1:$B$35,2,FALSE)))","v":""},{"$f":"IF(I3=\"\",\"\",(VLOOKUP(I3,種目コード!$A$1:$B$35,2,FALSE)))","v":""},{"$f":"IF(L3=\"\",\"\",(VLOOKUP(L3,種目コード!$A$1:$B$35,2,FALSE)))","v":""}]
[2,{"$nulls":12},{"$f":"IF(C4=\"\",\"\",2)","v":""},{"$f":"IF(D4=\"\",\"\",VLOOKUP(D4,所属コード!$C$1:$D$160,2,FALSE))","v":""},{"$f":"IFERROR(VLOOKUP(G4,種目コード!$A$1:$B$35,2,FALSE),\"\")","v":""},{"$f":"IF(I4=\"\",\"\",(VLOOKUP(I4,種目コード!$A$1:$B$35,2,FALSE)))","v":""},{"$f":"IF(L4=\"\",\"\",(VLOOKUP(L4,種目コード!$A$1:$B$35,2,FALSE)))","v":""}]
[3,{"$nulls":12},"",{"$f":"IF(D5=\"\",\"\",VLOOKUP(D5,所属コード!$C$1:$D$160,2,FALSE))","v":""},{"$f":"IFERROR(VLOOKUP(G5,種目コード!$A$1:$B$35,2,FALSE),\"\")","v":""},{"$f":"IF(I5=\"\",\"\",(VLOOKUP(I5,種目コード!$A$1:$B$35,2,FALSE)))","v":""},{"$f":"IF(L5=\"\",\"\",(VLOOKUP(L5,種目コード!$A$1:$B$35,2,FALSE)))","v":""}]
[4,{"$nulls":12},"",{"$f":"IF(D6=\"\",\"\",VLOOKUP(D6,所属コード!$C$1:$D$160,2,FALSE))","v":""},{"$f":"IFERROR(VLOOKUP(G6,種目コード!$A$1:$B$35,2,FALSE),\"\")","v":""},{"$f":"IF(I6=\"\",\"\",(VLOOKUP(I6,種目コード!$A$1:$B$35,2,FALSE)))","v":""},{"$f":"IF(L6=\"\",\"\",(VLOOKUP(L6,種目コード!$A$1:$B$35,2,FALSE)))","v":""}]
[5,{"$nulls":12},"",{"$f":"IF(D7=\"\",\"\",VLOOKUP(D7,所属コード!$C$1:$D$160,2,FALSE))","v":""},{"$f":"IFERROR(VLOOKUP(G7,種目コード!$A$1:$B$35,2,FALSE),\"\")","v":""},{"$f":"IF(I7=\"\",\"\",(VLOOKUP(I7,種目コード!$A$1:$B$35,2,FALSE)))","v":""},{"$f":"IF(L7=\"\",\"\",(VLOOKUP(L7,種目コード!$A$1:$B$35,2,FALSE)))","v":""}]
[6,{"$nulls":12},"",{"$f":"IF(D8=\"\",\"\",VLOOKUP(D8,所属コード!$C$1:$D$160,2,FALSE))","v":""},{"$f":"IFERROR(VLOOKUP(G8,種目コード!$A$1:$B$35,2,FALSE),\"\")","v":""},{"$f":"IF(I8=\"\",\"\",(VLOOKUP(I8,種目コード!$A$1:$B$35,2,FALSE)))","v":""},{"$f":"IF(L8=\"\",\"\",(VLOOKUP(L8,種目コード!$A$1:$B$35,2,FALSE)))","v":""}]
[7,{"$nulls":12},"",{"$f":"IF(D9=\"\",\"\",VLOOKUP(D9,所属コード!$C$1:$D$160,2,FALSE))","v":""},{"$f":"IFERROR(VLOOKUP(G9,種目コード!$A$1:$B$35,2,FALSE),\"\")","v":""},{"$f":"IF(I9=\"\",\"\",(VLOOKUP(I9,種目コード!$A$1:$B$35,2,FALSE)))","v":""},{"$f":"IF(L9=\"\",\"\",(VLOOKUP(L9,種目コード!$A$1:$B$35,2,FALSE)))","v":""}]
[8,{"$nulls":12},"",{"$f":"IF(D10=\"\",\"\",VLOOKUP(D10,所属コード!$C$1:$D$160,2,FALSE))","v":""},{"$f":"IFERROR(VLOOKUP(G10,種目コード!$A$1:$B$35,2,FALSE),\"\")","v":""},{"$f":"IF(I10=\"\",\"\",(VLOOKUP(I10,種目コード!$A$1:$B$35,2,FALSE)))","v":""},{"$f":"IF(L10=\"\",\"\",(VLOOKUP(L10,種目コード!$A$1:$B$35,2,FALSE)))","v":""}]
[9,{"$nulls":12},"",{"$f":"IF(D11=\"\",\"\",VLOOKUP(D11,所属コード!$C$1:$D$160,2,FALSE))","v":""},{"$f":"IFERROR(VLOOKUP(G11,種目コード!$A$1:$B$35,2,FALSE),\"\")","v":""},{"$f":"IF(I11=\"\",\"\",(VLOOKUP(I11,種目コード!$A$1:$B$35,2,FALSE)))","v":""},{"$f":"IF(L11=\"\",\"\",(VLOOKUP(L11,種目コード!$A$1:$B$35,2,FALSE)))","v":""}]
[10,{"$nulls":12},"",{"$f":"IF(D12=\"\",\"\",VLOOKUP(D12,所属コード!$C$1:$D$160,2,FALSE))","v":""},{"$f":"IFERROR(VLOOKUP(G12,種目コード!$A$1:$B$35,2,FALSE),\"\")","v":""},{"$f":"IF(I12=\"\",\"\",(VLOOKUP(I12,種目コード!$A$1:$B$35,2,FALSE)))","v":""},{"$f":"IF(L12=\"\",\"\",(VLOOKUP(L12,種目コード!$A$1:$B$35,2,FALSE)))","v":""}]
[11,{"$nulls":12},"",{"$f":"IF(D13=\"\",\"\",VLOOKUP(D13,所属コード!$C$1:$D$160,2,FALSE))","v":""},{"$f":"IFERROR(VLOOKUP(G13,種目コード!$A$1:$B$35,2,FALSE),\"\")","v":""},{"$f":"IF(I13=\"\",\"\",(VLOOKUP(I13,種目コード!$A$1:$B$35,2,FALSE)))","v":""},{"$f":"IF(L13=\"\",\"\",(VLOOKUP(L13,種目コード!$A$1:$B$35,2,FALSE)))","v":""}]
[12,{"$nulls":12},"",{"$f":"IF(D14=\"\",\"\",VLOOKUP(D14,所属コード!$C$1:$D$160,2,FALSE))","v":""},{"$f":"IFERROR(VLOOKUP(G14,種目コード!$A$1:$B$35,2,FALSE),\"\")","v":""},{"$f":"IF(I14=\"\",\"\",(VLOOKUP(I14,種目コード!$A$1:$B$35,2,FALSE)))","v":""},{"$f":"IF(L14=\"\",\"\",(VLOOKUP(L14,種目コード!$A$1:$B$35,2,FALSE)))","v":""}]
[13,{"$nulls":12},"",{"$f":"IF(D15=\"\",\"\",VLOOKUP(D15,所属コード!$C$1:$D$160,2,FALSE))","v":""},{"$f":"IFERROR(VLOOKUP(G15,種目コード!$A$1:$B$35,2,FALSE),\"\")","v":""},{"$f":"IF(I15=\"\",\"\",(VLOOKUP(I15,種目コード!$A$1:$B$35,2,FALSE)))","v":""},{"$f":"IF(L15=\"\",\"\",(VLOOKUP(L15,種目コード!$A$1:$B$35,2,FALSE)))","v":""}]
[14,{"$nulls":12},"",{"$f":"IF(D16=\"\",\"\",VLOOKUP(D16,所属コード!$C$1:$D$160,2,FALSE))","v":""},{"$f":"IFERROR(VLOOKUP(G16,種目コード!$A$1:$B$35,2,FALSE),\"\")","v":""},{"$f":"IF(I16=\"\",\"\",(VLOOKUP(I16,種目コード!$A$1:$B$35,2,FALSE)))","v":""},{"$f":"IF(L16=\"\",\"\",(VLOOKUP(L16,種目コード!$A$1:$B$35,2,FALSE)))","v":""}]
[15,{"$nulls":12},"",{"$f":"IF(D17=\"\",\"\",VLOOKUP(D17,所属コード!$C$1:$D$160,2,FALSE))","v":""},{"$f":"IFERROR(VLOOKUP(G17,種目コード!$A$1:$B$35,2,FALSE),\"\")","v":""},{"$f":"IF(I17=\"\",\"\",(VLOOKUP(I17,種目コード!$A$1:$B$35,2,FALSE)))","v":""},{"$f":"IF(L17=\"\",\"\",(VLOOKUP(L17,種目コード!$A$1:$B$35,2,FALSE)))","v":""}]
[16,{"$nulls":12},"",{"$f":"IF(D18=\"\",\"\",VLOOKUP(D18,所属コード!$C$1:$D$160,2,FALSE))","v":""},{"$f":"IFERROR(VLOOKUP(G18,種目コード!$A$1:$B$35,2,FALSE),\"\")","v":""},{"$f":"IF(I18=\"\",\"\",(VLOOKUP(I18,種目コード!$A$1:$B$35,2,FALSE)))","v":""},{"$f":"IF(L18=\"\",\"\",(VLOOKUP(L18,種目コード!$A$1:$B$35,2,FALSE)))","v":""}]
[17,{"$nulls":12},"",{"$f":"IF(D19=\"\",\"\",VLOOKUP(D19,所属コード!$C$1:$D$160,2,FALSE))","v":""},{"$f":"IFERROR(VLOOKUP(G19,種目コード!$A$1:$B$35,2,FALSE),\"\")","v":""},{"$f":"IF(I19=\"\",\"\",(VLOOKUP(I19,種目コード!$A$1:$B$35,2,FALSE)))","v":""},{"$f":"IF(L19=\"\",\"\",(VLOOKUP(L19,種目コード!$A$1:$B$35,2,FALSE)))","v":""}]
[18,{"$nulls":12},"",{"$f":"IF(D20=\"\",\"\",VLOOKUP(D20,所属コード!$C$1:$D$160,2,FALSE))","v":""},{"$f":"IFERROR(VLOOKUP(G20,種目コード!$A$1:$B$35,2,FALSE),\"\")","v":""},{"$f":"IF(I20=\"\",\"\",(VLOOKUP(I20,種目コード!$A$1:$B$35,2,FALSE)))","v":""},{"$f":"IF(L20=\"\",\"\",(VLOOKUP(L20,種目コード!$A$1:$B$35,2,FALSE)))","v":""}]
[19,{"$nulls":12},"",{"$f":"IF(D21=\"\",\"\",VLOOKUP(D21,所属コード!$C$1:$D$160,2,FALSE))","v":""},{"$f":"IFERROR(VLOOKUP(G21,種目コード!$A$1:$B$35,2,FALSE),\"\")","v":""},{"$f":"IF(I21=\"\",\"\",(VLOOKUP(I21,種目コード!$A$1:$B$35,2,FALSE)))","v":""},{"$f":"IF(L21=\"\",\"\",(VLOOKUP(L21,種目コード!$A$1:$B$35,2,FALSE)))","v":""}]
[20,{"$nulls":12},"",{"$f":"IF(D22=\"\",\"\",VLOOKUP(D22,所属コード!$C$1:$D$160,2,FALSE))","v":""},{"$f":"IFERROR(VLOOKUP(G22,種目コード!$A$1:$B$35,2,FALSE),\"\")","v":""},{"$f":"IF(I22=\"\",\"\",(VLOOKUP(I22,種目コード!$A$1:$B$35,2,FALSE)))","v":""},{"$f":"IF(L22=\"\",\"\",(VLOOKUP(L22,種目コード!$A$1:$B$35,2,FALSE)))","v":""}]
[21,{"$nulls":12},"",{"$f":"IF(D23=\"\",\"\",VLOOKUP(D23,所属コード!$C$1:$D$160,2,FALSE))","v":""},{"$f":"IFERROR(VLOOKUP(G23,種目コード!$A$1:$B$35,2,FALSE),\"\")","v":""},{"$f":"IF(I23=\"\",\"\",(VLOOKUP(I23,種目コード!$A$1:$B$35,2,FALSE)))","v":""},{"$f":"IF(L23=\"\",\"\",(VLOOKUP(L23,種目コード!$A$1:$B$35,2,FALSE)))","v":""}]
[22,{"$nulls":12},"",{"$f":"IF(D24=\"\",\"\",VLOOKUP(D24,所属コード!$C$1:$D$160,2,FALSE))","v":""},{"$f":"IFERROR(VLOOKUP(G24,種目コード!$A$1:$B$35,2,FALSE),\"\")","v":""},{"$f":"IF(I24=\"\",\"\",(VLOOKUP(I24,種目コード!$A$1:$B$35,2,FALSE)))","v":""},{"$f":"IF(L24=\"\",\"\",(VLOOKUP(L24,種目コード!$A$1:$B$35,2,FALSE)))","v":""}]
[23,{"$nulls":12},"",{"$f":"IF(D25=\"\",\"\",VLOOKUP(D25,所属コード!$C$1:$D$160,2,FALSE))","v":""},{"$f":"IFERROR(VLOOKUP(G25,種目コード!$A$1:$B$35,2,FALSE),\"\")","v":""},{"$f":"IF(I25=\"\",\"\",(VLOOKUP(I25,種目コード!$A$1:$B$35,2,FALSE)))","v":""},{"$f":"IF(L25=\"\",\"\",(VLOOKUP(L25,種目コード!$A$1:$B$35,2,FALSE)))","v":""}]
[24,{"$nulls":12},"",{"$f":"IF(D26=\"\",\"\",VLOOKUP(D26,所属コード!$C$1:$D$160,2,FALSE))","v":""},{"$f":"IFERROR(VLOOKUP(G26,種目コード!$A$1:$B$35,2,FALSE),\"\")","v":""},{"$f":"IF(I26=\"\",\"\",(VLOOKUP(I26,種目コード!$A$1:$B$35,2,FALSE)))","v":""},{"$f":"IF(L26=\"\",\"\",(VLOOKUP(L26,種目コード!$A$1:$B$35,2,FALSE)))","v":""}]
[25,{"$nulls":12},"",{"$f":"IF(D27=\"\",\"\",VLOOKUP(D27,所属コード!$C$1:$D$160,2,FALSE))","v":""},{"$f":"IFERROR(VLOOKUP(G27,種目コード!$A$1:$B$35,2,FALSE),\"\")","v":""},{"$f":"IF(I27=\"\",\"\",(VLOOKUP(I27,種目コード!$A$1:$B$35,2,FALSE)))","v":""},{"$f":"IF(L27=\"\",\"\",(VLOOKUP(L27,種目コード!$A$1:$B$35,2,FALSE)))","v":""}]
[26,{"$nulls":12},"",{"$f":"IF(D28=\"\",\"\",VLOOKUP(D28,所属コード!$C$1:$D$160,2,FALSE))","v":""},{"$f":"IFERROR(VLOOKUP(G28,種目コード!$A$1:$B$35,2,FALSE),\"\")","v":""},{"$f":"IF(I28=\"\",\"\",(VLOOKUP(I28,種目コード!$A$1:$B$35,2,FALSE)))","v":""},{"$f":"IF(L28=\"\",\"\",(VLOOKUP(L28,種目コード!$A$1:$B$35,2,FALSE)))","v":""}]
[27,{"$nulls":12},"",{"$f":"IF(D29=\"\",\"\",VLOOKUP(D29,所属コード!$C$1:$D$160,2,FALSE))","v":""},{"$f":"IFERROR(VLOOKUP(G29,種目コード!$A$1:$B$35,2,FALSE),\"\")","v":""},{"$f":"IF(I29=\"\",\"\",(VLOOKUP(I29,種目コード!$A$1:$B$35,2,FALSE)))","v":""},{"$f":"IF(L29=\"\",\"\",(VLOOKUP(L29,種目コード!$A$1:$B$35,2,FALSE)))","v":""}]
[28,{"$nulls":12},"",{"$f":"IF(D30=\"\",\"\",VLOOKUP(D30,所属コード!$C$1:$D$160,2,FALSE))","v":""},{"$f":"IFERROR(VLOOKUP(G30,種目コード!$A$1:$B$35,2,FALSE),\"\")","v":""},{"$f":"IF(I30=\"\",\"\",(VLOOKUP(I30,種目コード!$A$1:$B$35,2,FALSE)))","v":""},{"$f":"IF(L30=\"\",\"\",(VLOOKUP(L30,種目コード!$A$1:$B$35,2,FALSE)))","v":""}]
[29,{"$nulls":12},"",{"$f":"IF(D31=\"\",\"\",VLOOKUP(D31,所属コード!$C$1:$D$160,2,FALSE))","v":""},{"$f":"IFERROR(VLOOKUP(G31,種目コード!$A$1:$B$35,2,FALSE),\"\")","v":""},{"$f":"IF(I31=\"\",\"\",(VLOOKUP(I31,種目コード!$A$1:$B$35,2,FALSE)))","v":""},{"$f":"IF(L31=\"\",\"\",(VLOOKUP(L31,種目コード!$A$1:$B$35,2,FALSE)))","v":""}]
[30,{"$nulls":12},"",{"$f":"IF(D32=\"\",\"\",VLOOKUP(D32,所属コード!$C$1:$D$160,2,FALSE))","v":""},{"$f":"IFERROR(VLOOKUP(G32,種目コード!$A$1:$B$35,2,FALSE),\"\")","v":""},{"$f":"IF(I32=\"\",\"\",(VLOOKUP(I32,種目コード!$A$1:$B$35,2,FALSE)))","v":""},{"$f":"IF(L32=\"\",\"\",(VLOOKUP(L32,種目コード!$A$1:$B$35,2,FALSE)))","v":""}]
[31,{"$nulls":12},"",{"$f":"IF(D33=\"\",\"\",VLOOKUP(D33,所属コード!$C$1:$D$160,2,FALSE))","v":""},{"$f":"IFERROR(VLOOKUP(G33,種目コード!$A$1:$B$35,2,FALSE),\"\")","v":""},{"$f":"IF(I33=\"\",\"\",(VLOOKUP(I33,種目コード!$A$1:$B$35,2,FALSE)))","v":""},{"$f":"IF(L33=\"\",\"\",(VLOOKUP(L33,種目コード!$A$1:$B$35,2,FALSE)))","v":""}]
[32,{"$nulls":12},"",{"$f":"IF(D34=\"\",\"\",VLOOKUP(D34,所属コード!$C$1:$D$160,2,FALSE))","v":""},{"$f":"IFERROR(VLOOKUP(G34,種目コード!$A$1:$B$35,2,FALSE),\"\")","v":""},{"$f":"IF(I34=\"\",\"\",(VLOOKUP(I34,種目コード!$A$1:$B$35,2,FALSE)))","v":""},{"$f":"IF(L34=\"\",\"\",(VLOOKUP(L34,種目コード!$A$1:$B$35,2,FALSE)))","v":""}]
[33,{"$nulls":12},"",{"$f":"IF(D35=\"\",\"\",VLOOKUP(D35,所属コード!$C$1:$D$160,2,FALSE))","v":""},{"$f":"IFERROR(VLOOKUP(G35,種目コード!$A$1:$B$35,2,FALSE),\"\")","v":""},{"$f":"IF(I35=\"\",\"\",(VLOOKUP(I35,種目コード!$A$1:$B$35,2,FALSE)))","v":""},{"$f":"IF(L35=\"\",\"\",(VLOOKUP(L35,種目コード!$A$1:$B$35,2,FALSE)))","v":""}]
[34,{"$nulls":12},"",{"$f":"IF(D36=\"\",\"\",VLOOKUP(D36,所属コード!$C$1:$D$160,2,FALSE))","v":""},{"$f":"IFERROR(VLOOKUP(G36,種目コード!$A$1:$B$35,2,FALSE),\"\")","v":""},{"$f":"IF(I36=\"\",\"\",(VLOOKUP(I36,種目コード!$A$1:$B$35,2,FALSE)))","v":""},{"$f":"IF(L36=\"\",\"\",(VLOOKUP(L36,種目コード!$A$1:$B$35,2,FALSE)))","v":""}]
[35,{"$nulls":12},"",{"$f":"IF(D37=\"\",\"\",VLOOKUP(D37,所属コード!$C$1:$D$160,2,FALSE))","v":""},{"$f":"IFERROR(VLOOKUP(G37,種目コード!$A$1:$B$35,2,FALSE),\"\")","v":""},{"$f":"IF(I37=\"\",\"\",(VLOOKUP(I37,種目コード!$A$1:$B$35,2,FALSE)))","v":""},{"$f":"IF(L37=\"\",\"\",(VLOOKUP(L37,種目コード!$A$1:$B$35,2,FALSE)))","v":""}]
[36,{"$nulls":12},"",{"$f":"IF(D38=\"\",\"\",VLOOKUP(D38,所属コード!$C$1:$D$160,2,FALSE))","v":""},{"$f":"IFERROR(VLOOKUP(G38,種目コード!$A$1:$B$35,2,FALSE),\"\")","v":""},{"$f":"IF(I38=\"\",\"\",(VLOOKUP(I38,種目コード!$A$1:$B$35,2,FALSE)))","v":""},{"$f":"IF(L38=\"\",\"\",(VLOOKUP(L38,種目コード!$A$1:$B$35,2,FALSE)))","v":""}]
[37,{"$nulls":12},"",{"$f":"IF(D39=\"\",\"\",VLOOKUP(D39,所属コード!$C$1:$D$160,2,FALSE))","v":""},{"$f":"IFERROR(VLOOKUP(G39,種目コード!$A$1:$B$35,2,FALSE),\"\")","v":""},{"$f":"IF(I39=\"\",\"\",(VLOOKUP(I39,種目コード!$A$1:$B$35,2,FALSE)))","v":""},{"$f":"IF(L39=\"\",\"\",(VLOOKUP(L39,種目コード!$A$1:$B$35,2,FALSE)))","v":""}]
[38,{"$nulls":12},"",{"$f":"IF(D40=\"\",\"\",VLOOKUP(D40,所属コード!$C$1:$D$160,2,FALSE))","v":""},{"$f":"IFERROR(VLOOKUP(G40,種目コード!$A$1:$B$35,2,FALSE),\"\")","v":""},{"$f":"IF(I40=\"\",\"\",(VLOOKUP(I40,種目コード!$A$1:$B$35,2,FALSE)))","v":""},{"$f":"IF(L40=\"\",\"\",(VLOOKUP(L40,種目コード!$A$1:$B$35,2,FALSE)))","v":""}]
[39,{"$nulls":12},"",{"$f":"IF(D41=\"\",\"\",VLOOKUP(D41,所属コード!$C$1:$D$160,2,FALSE))","v":""},{"$f":"IFERROR(VLOOKUP(G41,種目コード!$A$1:$B$35,2,FALSE),\"\")","v":""},{"$f":"IF(I41=\"\",\"\",(VLOOKUP(I41,種目コード!$A$1:$B$35,2,FALSE)))","v":""},{"$f":"IF(L41=\"\",\"\",(VLOOKUP(L41,種目コード!$A$1:$B$35,2,FALSE)))","v":""}]
[40,{"$nulls":12},"",{"$f":"IF(D42=\"\",\"\",VLOOKUP(D42,所属コード!$C$1:$D$160,2,FALSE))","v":""},{"$f":"IFERROR(VLOOKUP(G42,種目コード!$A$1:$B$35,2,FALSE),\"\")","v":""},{"$f":"IF(I42=\"\",\"\",(VLOOKUP(I42,種目コード!$A$1:$B$35,2,FALSE)))","v":""},{"$f":"IF(L42=\"\",\"\",(VLOOKUP(L42,種目コード!$A$1:$B$35,2,FALSE)))","v":""}]
[41,{"$nulls":12},"",{"$f":"IF(D43=\"\",\"\",VLOOKUP(D43,所属コード!$C$1:$D$160,2,FALSE))","v":""},{"$f":"IFERROR(VLOOKUP(G43,種目コード!$A$1:$B$35,2,FALSE),\"\")","v":""},{"$f":"IF(I43=\"\",\"\",(VLOOKUP(I43,種目コード!$A$1:$B$35,2,FALSE)))","v":""},{"$f":"IF(L43=\"\",\"\",(VLOOKUP(L43,種目コード!$A$1:$B$35,2,FALSE)))","v":""}]
[42,{"$nulls":12},"",{"$f":"IF(D44=\"\",\"\",VLOOKUP(D44,所属コード!$C$1:$D$160,2,FALSE))","v":""},{"$f":"IFERROR(VLOOKUP(G44,種目コード!$A$1:$B$35,2,FALSE),\"\")","v":""},{"$f":"IF(I44=\"\",\"\",(VLOOKUP(I44,種目コード!$A$1:$B$35,2,FALSE)))","v":""},{"$f":"IF(L44=\"\",\"\",(VLOOKUP(L44,種目コード!$A$1:$B$35,2,FALSE)))","v":""}]
[43,{"$nulls":12},"",{"$f":"IF(D45=\"\",\"\",VLOOKUP(D45,所属コード!$C$1:$D$160,2,FALSE))","v":""},{"$f":"IFERROR(VLOOKUP(G45,種目コード!$A$1:$B$35,2,FALSE),\"\")","v":""},{"$f":"IF(I45=\"\",\"\",(VLOOKUP(I45,種目コード!$A$1:$B$35,2,FALSE)))","v":""},{"$f":"IF(L45=\"\",\"\",(VLOOKUP(L45,種目コード!$A$1:$B$35,2,FALSE)))","v":""}]
[44,{"$nulls":12},"",{"$f":"IF(D46=\"\",\"\",VLOOKUP(D46,所属コード!$C$1:$D$160,2,FALSE))","v":""},{"$f":"IFERROR(VLOOKUP(G46,種目コード!$A$1:$B$35,2,FALSE),\"\")","v":""},{"$f":"IF(I46=\"\",\"\",(VLOOKUP(I46,種目コード!$A$1:$B$35,2,FALSE)))","v":""},{"$f":"IF(L46=\"\",\"\",(VLOOKUP(L46,種目コード!$A$1:$B$35,2,FALSE)))","v":""}]
[45,{"$nulls":12},"",{"$f":"IF(D47=\"\",\"\",VLOOKUP(D47,所属コード!$C$1:$D$160,2,FALSE))","v":""},{"$f":"IFERROR(VLOOKUP(G47,種目コード!$A$1:$B$35,2,FALSE),\"\")","v":""},{"$f":"IF(I47=\"\",\"\",(VLOOKUP(I47,種目コード!$A$1:$B$35,2,FALSE)))","v":""},{"$f":"IF(L47=\"\",\"\",(VLOOKUP(L47,種目コード!$A$1:$B$35,2,FALSE)))","v":""}]
[46,{"$nulls":12},"",{"$f":"IF(D48=\"\",\"\",VLOOKUP(D48,所属コード!$C$1:$D$160,2,FALSE))","v":""},{"$f":"IFERROR(VLOOKUP(G48,種目コード!$A$1:$B$35,2,FALSE),\"\")","v":""},{"$f":"IF(I48=\"\",\"\",(VLOOKUP(I48,種目コード!$A$1:$B$35,2,FALSE)))","v":""},{"$f":"IF(L48=\"\",\"\",(VLOOKUP(L48,種目コード!$A$1:$B$35,2,FALSE)))","v":""}]
[47,{"$nulls":12},"",{"$f":"IF(D49=\"\",\"\",VLOOKUP(D49,所属コード!$C$1:$D$160,2,FALSE))","v":""},{"$f":"IFERROR(VLOOKUP(G49,種目コード!$A$1:$B$35,2,FALSE),\"\")","v":""},{"$f":"IF(I49=\"\",\"\",(VLOOKUP(I49,種目コード!$A$1:$B$35,2,FALSE)))","v":""},{"$f":"IF(L49=\"\",\"\",(VLOOKUP(L49,種目コード!$A$1:$B$35,2,FALSE)))","v":""}]
[48,{"$nulls":12},"",{"$f":"IF(D50=\"\",\"\",VLOOKUP(D50,所属コード!$C$1:$D$160,2,FALSE))","v":""},{"$f":"IFERROR(VLOOKUP(G50,種目コード!$A$1:$B$35,2,FALSE),\"\")","v":""},{"$f":"IF(I50=\"\",\"\",(VLOOKUP(I50,種目コード!$A$1:$B$35,2,FALSE)))","v":""},{"$f":"IF(L50=\"\",\"\",(VLOOKUP(L50,種目コード!$A$1:$B$35,2,FALSE)))","v":""}]
[49,{"$nulls":12},"",{"$f":"IF(D51=\"\",\"\",VLOOKUP(D51,所属コード!$C$1:$D$160,2,FALSE))","v":""},{"$f":"IFERROR(VLOOKUP(G51,種目コード!$A$1:$B$35,2,FALSE),\"\")","v":""},{"$f":"IF(I51=\"\",\"\",(VLOOKUP(I51,種目コード!$A$1:$B$35,2,FALSE)))","v":""},{"$f":"IF(L51=\"\",\"\",(VLOOKUP(L51,種目コード!$A$1:$B$35,2,FALSE)))","v":""}]
[50,{"$nulls":12},"",{"$f":"IF(D52=\"\",\"\",VLOOKUP(D52,所属コード!$C$1:$D$160,2,FALSE))","v":""},{"$f":"IFERROR(VLOOKUP(G52,種目コード!$A$1:$B$35,2,FALSE),\"\")","v":""},{"$f":"IF(I52=\"\",\"\",(VLOOKUP(I52,種目コード!$A$1:$B$35,2,FALSE)))","v":""},{"$f":"IF(L52=\"\",\"\",(VLOOKUP(L52,種目コード!$A$1:$B$35,2,FALSE)))","v":""}]

{"sheet":"リレー","index":4,"n_rows":54,"n_cols":12,"rows_kept":54}
["リレー申し込み"]
["リスト選択","略称ﾖﾐｶﾞﾅ","略称","所属コード","選択","記録は5桁","例５６秒３０\n05630","選手はナンバーを記入、半角数字"]
["種目","略称校名","略称ﾖﾐｶﾞﾅ","チームコード","A・B","記録","選手１","選手２","選手３","選手４","選手５","選手６"]
[{"$nulls":3},{"$f":"IF(B4=\"\",\"\",VLOOKUP(B4,所属コード!$C$1:$D$160,2))","v":""}]
[{"$nulls":3},{"$f":"IF(B5=\"\",\"\",VLOOKUP(B5,所属コード!$C$1:$D$160,2))","v":""}]
[{"$nulls":3},{"$f":"IF(B6=\"\",\"\",VLOOKUP(B6,所属コード!$C$1:$D$160,2))","v":""}]
[{"$nulls":3},{"$f":"IF(B7=\"\",\"\",VLOOKUP(B7,所属コード!$C$1:$D$160,2))","v":""}]
[{"$nulls":3},{"$f":"IF(B8=\"\",\"\",VLOOKUP(B8,所属コード!$C$1:$D$160,2))","v":""}]
[{"$nulls":3},{"$f":"IF(B9=\"\",\"\",VLOOKUP(B9,所属コード!$C$1:$D$160,2))","v":""}]
[{"$nulls":3},{"$f":"IF(B10=\"\",\"\",VLOOKUP(B10,所属コード!$C$1:$D$160,2))","v":""}]
[{"$nulls":3},{"$f":"IF(B11=\"\",\"\",VLOOKUP(B11,所属コード!$C$1:$D$160,2))","v":""}]
[{"$nulls":3},{"$f":"IF(B12=\"\",\"\",VLOOKUP(B12,所属コード!$C$1:$D$160,2))","v":""}]
[{"$nulls":3},{"$f":"IF(B13=\"\",\"\",VLOOKUP(B13,所属コード!$C$1:$D$160,2))","v":""}]
[{"$nulls":3},{"$f":"IF(B14=\"\",\"\",VLOOKUP(B14,所属コード!$C$1:$D$160,2))","v":""}]
[{"$nulls":3},{"$f":"IF(B15=\"\",\"\",VLOOKUP(B15,所属コード!$C$1:$D$160,2))","v":""}]
[{"$nulls":3},{"$f":"IF(B16=\"\",\"\",VLOOKUP(B16,所属コード!$C$1:$D$160,2))","v":""}]
[{"$nulls":3},{"$f":"IF(B17=\"\",\"\",VLOOKUP(B17,所属コード!$C$1:$D$160,2))","v":""}]
[{"$nulls":3},{"$f":"IF(B18=\"\",\"\",VLOOKUP(B18,所属コード!$C$1:$D$160,2))","v":""}]
[{"$nulls":3},{"$f":"IF(B19=\"\",\"\",VLOOKUP(B19,所属コード!$C$1:$D$160,2))","v":""}]
[{"$nulls":3},{"$f":"IF(B20=\"\",\"\",VLOOKUP(B20,所属コード!$C$1:$D$160,2))","v":""}]
[{"$nulls":3},{"$f":"IF(B21=\"\",\"\",VLOOKUP(B21,所属コード!$C$1:$D$160,2))","v":""}]
[{"$nulls":3},{"$f":"IF(B22=\"\",\"\",VLOOKUP(B22,所属コード!$C$1:$D$160,2))","v":""}]
[{"$nulls":3},{"$f":"IF(B23=\"\",\"\",VLOOKUP(B23,所属コード!$C$1:$D$160,2))","v":""}]
{"$rows_empty":26}
["男子４００R",{"$nulls":3},"A"]
["男子1600R",{"$nulls":3},"B"]
["女子４００R",{"$nulls":3},"C"]
["女子1600R",{"$nulls":3},"D"]
[{"$nulls":4},"E"]

{"sheet":"所属コード","index":5,"n_rows":160,"n_cols":4,"rows_kept":160,"hidden":true}
["№","区分","所属名","コード"]
[1,"中学","土庄中",365001]
[2,"中学","豊島中",365002]
[3,"中学","内海中",365003]
[4,"中学","池田中",365004]
[5,"中学","引田中",365005]
[6,"中学","白鳥中",365006]
[7,"中学","大川中",365007]
[8,"中学","さぬき南",365008]
[9,"中学","大川第一中",365009]
[10,"中学","志度中",365010]
[11,"中学","志度東中",365011]
[12,"中学","天王中",365012]
[13,"中学","長尾中",365013]
[14,"中学","三木中",365014]
[15,"中学","直島中",365015]
[16,"中学","附属高松中",365016]
[17,"中学","高松北中",365017]
[18,"中学","桜町中",365018]
[19,"中学","紫雲中",365019]
[20,"中学","玉藻中",365020]
[21,"中学","高松第一中",365021]
[22,"中学","鶴尾中",365022]
[23,"中学","屋島中",365023]
[24,"中学","協和中",365024]
[25,"中学","龍雲中",365025]
[26,"中学","勝賀中",365026]
[27,"中学","一宮中",365027]
[28,"中学","香東中",365028]
[29,"中学","下笠居中",365029]
[30,"中学","男木中",365030]
[31,"中学","山田中",365031]
[32,"中学","太田中",365032]
[33,"中学","古高松中",365033]
[34,"中学","木太中",365034]
[35,"中学","塩江中",365035]
[36,"中学","庵治中",365036]
[37,"中学","牟礼中",365037]
[38,"中学","香川第一中",365038]
[39,"中学","国分寺中",365039]
[40,"中学","香川誠陵中",365040]
[41,"中学","大手前高松中",365041]
[42,"中学","香南中",365042]
[43,"中学","聾学校",365043]
[44,"中学","綾上中",365044]
[45,"中学","綾南中",365045]
[46,"中学","宇多津中",365046]
[47,"中学","附属坂出中",365047]
[48,"中学","坂出中",365048]
[49,"中学","坂出東部中",365049]
[50,"中学","白峰中",365050]
[51,"中学","瀬居中",365051]
[52,"中学","岩黒中",365052]
[53,"中学","櫃石中",365053]
[54,"中学","丸亀東中",365054]
[55,"中学","丸亀西中",365055]
[56,"中学","丸亀南中",365056]
[57,"中学","本島中",365057]
[58,"中学","広島中",365058]
[59,"中学","綾歌中",365059]
[60,"中学","飯山中",365060]
[61,"中学","大手前丸亀中",365061]
[62,"中学","藤井中",365062]
[63,"中学","善通寺西中",365063]
[64,"中学","善通寺東中",365064]
[65,"中学","満濃中",365065]
[66,"中学","琴南中",365066]
[67,"中学","琴平中",365067]
[68,"中学","多度津中",365068]
[69,"中学","観音寺中",365069]
[70,"中学","観音寺中部中",365070]
[71,"中学","伊吹中",365071]
[72,"中学","大野原中",365072]
[73,"中学","豊浜中",365073]
[74,"中学","三豊中",365074]
[75,"中学","高瀬中",365075]
[76,"中学","三野津中",365076]
[77,"中学","豊中中",365077]
[78,"中学","詫間中",365078]
[79,"中学","仁尾中",365079]
[80,"中学","和光中",365080]
[81,"高校","高松工業高専",363091]
[82,"高校","詫間電波工業高専",363092]
[83,"高校","小豆島高",363101]
[84,"高校","土庄高",363102]
[85,"高校","三本松高",363103]
[86,"高校","津田高",363104]
[87,"高校","石田高",363105]
[88,"高校","志度高",363106]
[89,"高校","高松東高",363107]
[90,"高校","高松高",363108]
[91,"高校","高松工高",363109]
[92,"高校","高松商高",363110]
[93,"高校","高松南高",363111]
[94,"高校","農業経営高",363112]
[95,"高校","飯山高",363113]
[96,"高校","坂出高",363114]
[97,"高校","坂出商高",363115]
[98,"高校","坂出工高",363116]
[99,"高校","丸亀高",363117]
[100,"高校","丸亀城西高",363118]
[101,"高校","多度津高",363119]
[102,"高校","善通寺一高",363121]
[103,"高校","琴平高",363123]
[104,"高校","高瀬高",363124]
[105,"高校","笠田高",363125]
[106,"高校","観音寺一高",363126]
[107,"高校","観音寺中央高",363127]
[108,"高校","三豊工高",363128]
[109,"高校","高松一高",363129]
[110,"高校","高松西高",363130]
[111,"高校","高松北高",363131]
[112,"高校","香川中央高",363133]
[113,"高校","高松桜井高",363134]
[114,"高校","三木高",363135]
[115,"高校","香川聾",363452]
[116,"高校","香川中部養護",363457]
[117,"高校","香川丸亀養護",363458]
[118,"高校","藤井学園寒川",363501]
[119,"高校","英明高",363502]
[120,"高校","高松中央高",363503]
[121,"高校","大手前高松高",363504]
[122,"高校","坂出第一高",363505]
[123,"高校","大手前高",363506]
[124,"高校","藤井高",363507]
[125,"高校","尽誠学園高",363508]
[126,"高校","香川西高",363509]
[127,"高校","誠陵高",363510]
[128,"高校","丸亀大手前高",363511]
[129,"一般","三菱ケミカル",360001]
[130,"一般","善通寺陸上自衛隊",360002]
[131,"一般","香川マスターズ陸上競技連盟",360003]
[132,"一般","香川教員クラブ",360007]
[133,"一般","香川RC遊",360008]
[134,"一般","高専詫間",360009]
[135,"一般","今治造船(株)",360010]
[136,"一般","KMU",360011]
[137,"一般","RATTLE",360014]
[138,"一般","小豆郡陸上競技協会",360019]
[139,"一般","さぬき市・東かがわ市陸上競技協会",360020]
[140,"一般","高松市陸上競技協会",360021]
[141,"一般","坂出市陸上競技協会",360023]
[142,"一般","丸亀市陸上競技協会",360024]
[143,"一般","仲多度善通寺陸上競技協会",360025]
[144,"一般","三豊市観音寺市陸上競技協会",360026]
[145,"一般","MAC",360042]
[146,"一般","丸亀市役所陸上競技部",360049]
[147,"一般","丸善工業",360050]
[148,"一般","石丸製麺株式会社",360051]
[149,"一般","海満隊",360052]
[150,"一般","綾川ＡＣ",360054]
[151,"一般","香川アスリート倶楽部",360056]
[152,"一般","丸亀スタジアムJC",360058]
[153,"一般","投擲戦隊ナゲレンジャー",360059]
[154,"一般","アリンコ魂",360060]
[155,"一般","ASPERITY",360061]
[156,"一般","讃岐やいの會",360062]
[157,"一般","チームミズノアスレティック",360063]
[158,"一般","SMT2",360064]
[159,null,"県外"]

{"sheet":"種目コード","index":6,"n_rows":35,"n_cols":2,"rows_kept":35,"hidden":true}
["正式種目名","CODE"]
["６０ｍ",{"v":1,"d":"001"}]
["１００ｍ",{"v":2,"d":"002"}]
["２００ｍ",{"v":3,"d":"003"}]
["４００ｍ",{"v":5,"d":"005"}]
["８００ｍ",{"v":6,"d":"006"}]
["１５００ｍ",{"v":8,"d":"008"}]
["３０００ｍ",{"v":10,"d":"010"}]
["５０００ｍ",{"v":11,"d":"011"}]
["男中１１０ｍＨ(0.914m)",{"v":32,"d":"032"}]
["男１１０ｍＨ(1.067m)",{"v":34,"d":"034"}]
["男４００ｍＨ(0.914m)",{"v":37,"d":"037"}]
["女中１００ｍＨ(0.762m)",{"v":42,"d":"042"}]
["女１００ｍＨ(0.838m)",{"v":44,"d":"044"}]
["女４００ｍＨ(0.762m)",{"v":46,"d":"046"}]
["３０００ｍ障害(762mm)",{"v":54,"d":"054"}]
["５０００ｍ競歩",{"v":61,"d":"061"}]
["走高跳",{"v":71,"d":"071"}]
["棒高跳",{"v":72,"d":"072"}]
["走幅跳",{"v":73,"d":"073"}]
["三段跳",{"v":74,"d":"074"}]
["男砲丸投(7.260kg)",{"v":81,"d":"081"}]
["男高砲丸投(6.000kg)",{"v":82,"d":"082"}]
["男中砲丸投(5.000kg)",{"v":83,"d":"083"}]
["女砲丸投(4.000kg)",{"v":84,"d":"084"}]
["女中砲丸投(2.721kg)",{"v":85,"d":"085"}]
["男円盤投(2.000kg)",{"v":86,"d":"086"}]
["男高円盤投(1.750kg)",{"v":87,"d":"087"}]
["女円盤投(1.000kg)",{"v":88,"d":"088"}]
["男ハンマー投(7.260kg)",{"v":89,"d":"089"}]
["男高ハンマー投(6.000kg)",{"v":91,"d":"091"}]
["男やり投(0.800kg)",{"v":92,"d":"092"}]
["女やり投(0.600kg)",{"v":93,"d":"093"}]
["女ハンマー投(4.000kg)",{"v":94,"d":"094"}]
["４×１００ｍ",601]